Workbook

Sheet Jan 2023
A1: Name of Beneficiary | B1: Università degli Studi di Roma "Tor Vergata"
A2: Name of staff member | B2: Prof./Dott. ……..
A3: Type of personnel | B3: (see Art. 6.2.A Grant Agreement)
A4: Calendar Year | B4: 2023
A5: Calendar Month | B5: January
A7: Date | B7: 1 | C7: 2 | D7: 3 | E7: 4 | F7: 5 | G7: 6 | H7: 7 | I7: 8 | J7: 9 | K7: 10 | L7: 11 | M7: 12 | N7: 13 | O7: 14 | P7: 15 | Q7: 16 | R7: 17 | S7: 18 | T7: 19 | U7: 20 | V7: 21 | W7: 22 | X7: 23 | Y7: 24 | Z7: 25 | AA7: 26 | AB7: 27 | AC7: 28 | AD7: 29 | AE7: 30 | AF7: 31 | AG7: Total | AH7: Total
A8: Day | B8: Sun | C8: Mon | D8: Tue | E8: Wed | F8: Thu | G8: Fri | H8: Sat | I8: Sun | J8: Mon | K8: Tue | L8: Wed | M8: Thu | N8: Fri | O8: Sat | P8: Sun | Q8: Mon | R8: Tue | S8: Wed | T8: Thu | U8: Fri | V8: Sat | W8: Sun | X8: Mon | Y8: Tue | Z8: Wed | AA8: Thu | AB8: Fri | AC8: Sat | AD8: Sun | AE8: Mon | AF8: Tue | AG8: hours | AH8: days
A9: Title of the project (acronim) - Grant Agreement No: | B9: =SUM(B10:B16) -> 0 | C9: =SUM(C10:C16) -> 0 | D9: =SUM(D10:D16) -> 0 | E9: =SUM(E10:E16) -> 0 | F9: =SUM(F10:F16) -> 0 | G9: =SUM(G10:G16) -> 0 | H9: =SUM(H10:H16) -> 0 | I9: =SUM(I10:I16) -> 0 | ... AF9: =SUM(AF10:AF16) -> 0 | AG9: =SUM(B9:AF9) -> 0 | AH9: =SUM(AH10:AH16) -> 0
A10: WP1 | AG10: =SUM(B10:AF10) -> 0 | AH10: =AG10/8 -> 0
A11: WP2 | AG11: =SUM(B11:AF11) -> 0 | AH11: =AG11/8 -> 0
A12: WP3 | AG12: =SUM(B12:AF12) -> 0 | AH12: =AG12/8 -> 0
A13: WP4 | AG13: =SUM(B13:AF13) -> 0 | AH13: =AG13/8 -> 0
A14: WP5 | AG14: =SUM(B14:AF14) -> 0 | AH14: =AG14/8 -> 0
A15: WP6 | AG15: =SUM(B15:AF15) -> 0 | AH15: =AG15/8 -> 0
A16: WP7 | AG16: =SUM(B16:AF16) -> 0 | AH16: =AG16/8 -> 0
A17: Title of the project (acronim) - Grant Agreement No: | B17: =SUM(B18:B24) -> 0 | C17: =SUM(C18:C24) -> 0 | D17: =SUM(D18:D24) -> 0 | E17: =SUM(E18:E24) -> 0 | F17: =SUM(F18:F24) -> 0 | G17: =SUM(G18:G24) -> 0 | H17: =SUM(H18:H24) -> 0 | I17: =SUM(I18:I24) -> 0 | ... AF17: =SUM(AF18:AF24) -> 0 | AG17: =SUM(B17:AF17) -> 0 | AH17: =SUM(AH18:AH24) -> 0
A18: WP1 | AG18: =SUM(B18:AF18) -> 0 | AH18: =AG18/8 -> 0
A19: WP2 | AG19: =SUM(B19:AF19) -> 0 | AH19: =AG19/8 -> 0
A20: WP3 | AG20: =SUM(B20:AF20) -> 0 | AH20: =AG20/8 -> 0
A21: WP4 | AG21: =SUM(B21:AF21) -> 0 | AH21: =AG21/8 -> 0
A22: WP5 | AG22: =SUM(B22:AF22) -> 0 | AH22: =AG22/8 -> 0
A23: WP6 | AG23: =SUM(B23:AF23) -> 0 | AH23: =AG23/8 -> 0
A24: WP7 | AG24: =SUM(B24:AF24) -> 0 | AH24: =AG24/8 -> 0
A25: Title of the project (acronim) - Grant Agreement No: | B25: =SUM(B26:B32) -> 0 | C25: =SUM(C26:C32) -> 0 | D25: =SUM(D26:D32) -> 0 | E25: =SUM(E26:E32) -> 0 | F25: =SUM(F26:F32) -> 0 | G25: =SUM(G26:G32) -> 0 | H25: =SUM(H26:H32) -> 0 | I25: =SUM(I26:I32) -> 0 | ... AF25: =SUM(AF26:AF32) -> 0 | AG25: =SUM(B25:AF25) -> 0 | AH25: =SUM(AH26:AH32) -> 0
A26: WP1 | AG26: =SUM(B26:AF26) -> 0 | AH26: =AG26/8 -> 0
A27: WP2 | AG27: =SUM(B27:AF27) -> 0 | AH27: =AG27/8 -> 0
A28: WP3 | AG28: =SUM(B28:AF28) -> 0 | AH28: =AG28/8 -> 0
A29: WP4 | AG29: =SUM(B29:AF29) -> 0 | AH29: =AG29/8 -> 0
A30: WP5 | AG30: =SUM(B30:AF30) -> 0 | AH30: =AG30/8 -> 0
A31: WP6 | AG31: =SUM(B31:AF31) -> 0 | AH31: =AG31/8 -> 0
A32: WP7 | AG32: =SUM(B32:AF32) -> 0 | AH32: =AG32/8 -> 0
A33: Other activities | B33: =SUM(B34:B36) -> 0 | C33: =SUM(C34:C36) -> 0 | D33: =SUM(D34:D36) -> 0 | E33: =SUM(E34:E36) -> 0 | F33: =SUM(F34:F36) -> 0 | G33: =SUM(G34:G36) -> 0 | H33: =SUM(H34:H36) -> 0 | I33: =SUM(I34:I36) -> 0 | ... AF33: =SUM(AF34:AF36) -> 0 | AG33: =SUM(B33:AF33) -> 0 | AH33: =SUM(AH34:AH36) -> 0
A34: Travels | AG34: =SUM(B34:AF34) -> 0 | AH34: =AG34/8 -> 0
AG35: =SUM(B35:AF35) -> 0 | AH35: =AG35/8 -> 0
AG36: =SUM(B36:AF36) -> 0 | AH36: =AG36/8 -> 0
A37: Total hours | B37: =B9+B17+B25+B33 -> 0 | C37: =C9+C17+C25+C33 -> 0 | D37: =D9+D17+D25+D33 -> 0 | E37: =E9+E17+E25+E33 -> 0 | F37: =F9+F17+F25+F33 -> 0 | G37: =G9+G17+G25+G33 -> 0 | H37: =H9+H17+H25+H33 -> 0 | I37: =I9+I17+I25+I33 -> 0 | ... AF37: =AF9+AF17+AF25+AF33 -> 0 | AG37: =SUM(B37:AF37) -> 0 | AH37: =AH9+AH17+AH25+AH33 -> 0
S39: Productive hours per project: | AH39: P. days
A40: Date and signature of staff member | F40: Date and signature of line manager/supervisor | S40: =A9 -> Title of the project (acronim) - Grant Agreement No: | AG40: =AG9 -> 0 | AH40: =AG40/8 -> 0
S41: =A17 -> Title of the project (acronim) - Grant Agreement No: | AG41: =AG17 -> 0 | AH41: =AG41/8 -> 0
S42: =A25 -> Title of the project (acronim) - Grant Agreement No: | AG42: =AG25 -> 0 | AH42: =AG42/8 -> 0
S43: Other activities | AG43: =AG33 -> 0 | AH43: =AG43/8 -> 0
S44: Total hours | AG44: =SUM(AG40:AG43) -> 0 | AH44: =AH40+AH41+AH42+AH43 -> 0

Sheet Feb 2023
A1: Name of Beneficiary | B1: Università degli Studi di Roma "Tor Vergata"
A2: Name of staff member | B2: ='Jan 2023'!B2:AG2 -> Prof./Dott. ……..
A3: Type of personnel | B3: ='Jan 2023'!B3:AG3 -> (see Art. 6.2.A Grant Agreement)
A4: Calendar Year | B4: 2023
A5: Calendar Month | B5: February
A7: Date | B7: 1 | C7: 2 | D7: 3 | E7: 4 | F7: 5 | G7: 6 | H7: 7 | I7: 8 | J7: 9 | K7: 10 | L7: 11 | M7: 12 | N7: 13 | O7: 14 | P7: 15 | Q7: 16 | R7: 17 | S7: 18 | T7: 19 | U7: 20 | V7: 21 | W7: 22 | X7: 23 | Y7: 24 | Z7: 25 | AA7: 26 | AB7: 27 | AC7: 28 | AD7: Total
A8: Day | B8: Wed | C8: Thu | D8: Fri | E8: Sat | F8: Sun | G8: Mon | H8: Tue | I8: Wed | J8: Thu | K8: Fri | L8: Sat | M8: Sun | N8: Mon | O8: Tue | P8: Wed | Q8: Thu | R8: Fri | S8: Sat | T8: Sun | U8: Mon | V8: Tue | W8: Wed | X8: Thu | Y8: Fri | Z8: Sat | AA8: Sun | AB8: Mon | AC8: Tue
A9: Title of the project (acronim) - Grant Agreement No: | B9: =SUM(B10:B16) -> 0 | C9: =SUM(C10:C16) -> 0 | D9: =SUM(D10:D16) -> 0 | E9: =SUM(E10:E16) -> 0 | F9: =SUM(F10:F16) -> 0 | G9: =SUM(G10:G16) -> 0 | H9: =SUM(H10:H16) -> 0 | I9: =SUM(I10:I16) -> 0 | ... AC9: =SUM(AC10:AC16) -> 0 | AD9: =SUM(B9:AC9) -> 0
A10: WP1 | AD10: =SUM(B10:AC10) -> 0
A11: WP2 | AD11: =SUM(B11:AC11) -> 0
A12: WP3 | AD12: =SUM(B12:AC12) -> 0
A13: WP4 | AD13: =SUM(B13:AC13) -> 0
A14: WP5 | AD14: =SUM(B14:AC14) -> 0
A15: WP6 | AD15: =SUM(B15:AC15) -> 0
A16: WP7 | AD16: =SUM(B16:AC16) -> 0
A17: Title of the project (acronim) - Grant Agreement No: | B17: =SUM(B18:B24) -> 0 | C17: =SUM(C18:C24) -> 0 | D17: =SUM(D18:D24) -> 0 | E17: =SUM(E18:E24) -> 0 | F17: =SUM(F18:F24) -> 0 | G17: =SUM(G18:G24) -> 0 | H17: =SUM(H18:H24) -> 0 | I17: =SUM(I18:I24) -> 0 | ... AC17: =SUM(AC18:AC24) -> 0 | AD17: =SUM(B17:AC17) -> 0
A18: WP1 | AD18: =SUM(B18:AC18) -> 0
A19: WP2 | AD19: =SUM(B19:AC19) -> 0
A20: WP3 | AD20: =SUM(B20:AC20) -> 0
A21: WP4 | AD21: =SUM(B21:AC21) -> 0
A22: WP5 | AD22: =SUM(B22:AC22) -> 0
A23: WP6 | AD23: =SUM(B23:AC23) -> 0
A24: WP7 | AD24: =SUM(B24:AC24) -> 0
A25: Title of the project (acronim) - Grant Agreement No: | B25: =SUM(B26:B32) -> 0 | C25: =SUM(C26:C32) -> 0 | D25: =SUM(D26:D32) -> 0 | E25: =SUM(E26:E32) -> 0 | F25: =SUM(F26:F32) -> 0 | G25: =SUM(G26:G32) -> 0 | H25: =SUM(H26:H32) -> 0 | I25: =SUM(I26:I32) -> 0 | ... AC25: =SUM(AC26:AC32) -> 0 | AD25: =SUM(B25:AC25) -> 0
A26: WP1 | AD26: =SUM(B26:AC26) -> 0
A27: WP2 | AD27: =SUM(B27:AC27) -> 0
A28: WP3 | AD28: =SUM(B28:AC28) -> 0
A29: WP4 | AD29: =SUM(B29:AC29) -> 0
A30: WP5 | AD30: =SUM(B30:AC30) -> 0
A31: WP6 | AD31: =SUM(B31:AC31) -> 0
A32: WP7 | AD32: =SUM(B32:AC32) -> 0
A33: Other activities | B33: =SUM(B34:B36) -> 0 | C33: =SUM(C34:C36) -> 0 | D33: =SUM(D34:D36) -> 0 | E33: =SUM(E34:E36) -> 0 | F33: =SUM(F34:F36) -> 0 | G33: =SUM(G34:G36) -> 0 | H33: =SUM(H34:H36) -> 0 | I33: =SUM(I34:I36) -> 0 | ... AC33: =SUM(AC34:AC36) -> 0 | AD33: =SUM(B33:AC33) -> 0
AD34: =SUM(B34:AC34) -> 0
AD35: =SUM(B35:AC35) -> 0
AD36: =SUM(B36:AC36) -> 0
A37: Total hours | B37: =B9+B17+B25+B33 -> 0 | C37: =C9+C17+C25+C33 -> 0 | D37: =D9+D17+D25+D33 -> 0 | E37: =E9+E17+E25+E33 -> 0 | F37: =F9+F17+F25+F33 -> 0 | G37: =G9+G17+G25+G33 -> 0 | H37: =H9+H17+H25+H33 -> 0 | I37: =I9+I17+I25+I33 -> 0 | ... AC37: =AC9+AC17+AC25+AC33 -> 0 | AD37: =SUM(B37:AC37) -> 0
Q39: Productive hours per project:
A40: Date and signature of staff member | F40: Date and signature of line manager/supervisor | Q40: =A9 -> Title of the project (acronim) - Grant Agreement No: | AD40: =AD9 -> 0
Q41: =A17 -> Title of the project (acronim) - Grant Agreement No: | AD41: =AD17 -> 0
Q42: =A25 -> Title of the project (acronim) - Grant Agreement No: | AD42: =AD25 -> 0
Q43: Other activities | AD43: =AD33 -> 0
Q44: Total hours | AD44: =SUM(AD40:AD43) -> 0

Sheet Mar 2023
A1: Name of Beneficiary | B1: Università degli Studi di Roma "Tor Vergata"
A2: Name of staff member | B2: ='Jan 2023'!B2:AG2 -> Prof./Dott. ……..
A3: Type of personnel | B3: ='Jan 2023'!B3:AG3 -> (see Art. 6.2.A Grant Agreement)
A4: Calendar Year | B4: 2023
A5: Calendar Month | B5: March
A7: Date | B7: 1 | C7: 2 | D7: 3 | E7: 4 | F7: 5 | G7: 6 | H7: 7 | I7: 8 | J7: 9 | K7: 10 | L7: 11 | M7: 12 | N7: 13 | O7: 14 | P7: 15 | Q7: 16 | R7: 17 | S7: 18 | T7: 19 | U7: 20 | V7: 21 | W7: 22 | X7: 23 | Y7: 24 | Z7: 25 | AA7: 26 | AB7: 27 | AC7: 28 | AD7: 29 | AE7: 30 | AF7: 31 | AG7: Total
A8: Day | B8: Wed | C8: Thu | D8: Fri | E8: Sat | F8: Sun | G8: Mon | H8: Tue | I8: Wed | J8: Thu | K8: Fri | L8: Sat | M8: Sun | N8: Mon | O8: Tue | P8: Wed | Q8: Thu | R8: Fri | S8: Sat | T8: Sun | U8: Mon | V8: Tue | W8: Wed | X8: Thu | Y8: Fri | Z8: Sat | AA8: Sun | AB8: Mon | AC8: Tue | AD8: Wed | AE8: Thu | AF8: Fri
A9: Title of the project (acronim) - Grant Agreement No: | B9: =SUM(B10:B16) -> 0 | C9: =SUM(C10:C16) -> 0 | D9: =SUM(D10:D16) -> 0 | E9: =SUM(E10:E16) -> 0 | F9: =SUM(F10:F16) -> 0 | G9: =SUM(G10:G16) -> 0 | H9: =SUM(H10:H16) -> 0 | I9: =SUM(I10:I16) -> 0 | ... AF9: =SUM(AF10:AF16) -> 0 | AG9: =SUM(B9:AF9) -> 0
A10: WP1 | AG10: =SUM(B10:AF10) -> 0
A11: WP2 | AG11: =SUM(B11:AF11) -> 0
A12: WP3 | AG12: =SUM(B12:AF12) -> 0
A13: WP4 | AG13: =SUM(B13:AF13) -> 0
A14: WP5 | AG14: =SUM(B14:AF14) -> 0
A15: WP6 | AG15: =SUM(B15:AF15) -> 0
A16: WP7 | AG16: =SUM(B16:AF16) -> 0
A17: Title of the project (acronim) - Grant Agreement No: | B17: =SUM(B18:B24) -> 0 | C17: =SUM(C18:C24) -> 0 | D17: =SUM(D18:D24) -> 0 | E17: =SUM(E18:E24) -> 0 | F17: =SUM(F18:F24) -> 0 | G17: =SUM(G18:G24) -> 0 | H17: =SUM(H18:H24) -> 0 | I17: =SUM(I18:I24) -> 0 | ... AF17: =SUM(AF18:AF24) -> 0 | AG17: =SUM(B17:AF17) -> 0
A18: WP1 | AG18: =SUM(B18:AF18) -> 0
A19: WP2 | AG19: =SUM(B19:AF19) -> 0
A20: WP3 | AG20: =SUM(B20:AF20) -> 0
A21: WP4 | AG21: =SUM(B21:AF21) -> 0
A22: WP5 | AG22: =SUM(B22:AF22) -> 0
A23: WP6 | AG23: =SUM(B23:AF23) -> 0
A24: WP7 | AG24: =SUM(B24:AF24) -> 0
A25: Title of the project (acronim) - Grant Agreement No: | B25: =SUM(B26:B32) -> 0 | C25: =SUM(C26:C32) -> 0 | D25: =SUM(D26:D32) -> 0 | E25: =SUM(E26:E32) -> 0 | F25: =SUM(F26:F32) -> 0 | G25: =SUM(G26:G32) -> 0 | H25: =SUM(H26:H32) -> 0 | I25: =SUM(I26:I32) -> 0 | ... AF25: =SUM(AF26:AF32) -> 0 | AG25: =SUM(B25:AF25) -> 0
A26: WP1 | AG26: =SUM(B26:AF26) -> 0
A27: WP2 | AG27: =SUM(B27:AF27) -> 0
A28: WP3 | AG28: =SUM(B28:AF28) -> 0
A29: WP4 | AG29: =SUM(B29:AF29) -> 0
A30: WP5 | AG30: =SUM(B30:AF30) -> 0
A31: WP6 | AG31: =SUM(B31:AF31) -> 0
A32: WP7 | AG32: =SUM(B32:AF32) -> 0
A33: Other activities | B33: =SUM(B34:B36) -> 0 | C33: =SUM(C34:C36) -> 0 | D33: =SUM(D34:D36) -> 0 | E33: =SUM(E34:E36) -> 0 | F33: =SUM(F34:F36) -> 0 | G33: =SUM(G34:G36) -> 0 | H33: =SUM(H34:H36) -> 0 | I33: =SUM(I34:I36) -> 0 | ... AF33: =SUM(AF34:AF36) -> 0 | AG33: =SUM(B33:AF33) -> 0
AG34: =SUM(B34:AF34) -> 0
AG35: =SUM(B35:AF35) -> 0
AG36: =SUM(B36:AF36) -> 0
A37: Total hours | B37: =B9+B17+B25+B33 -> 0 | C37: =C9+C17+C25+C33 -> 0 | D37: =D9+D17+D25+D33 -> 0 | E37: =E9+E17+E25+E33 -> 0 | F37: =F9+F17+F25+F33 -> 0 | G37: =G9+G17+G25+G33 -> 0 | H37: =H9+H17+H25+H33 -> 0 | I37: =I9+I17+I25+I33 -> 0 | ... AF37: =AF9+AF17+AF25+AF33 -> 0 | AG37: =SUM(B37:AF37) -> 0
S39: Productive hours per project:
A40: Date and signature of staff member | F40: Date and signature of line manager/supervisor | S40: =A9 -> Title of the project (acronim) - Grant Agreement No: | AG40: =AG9 -> 0
S41: =A17 -> Title of the project (acronim) - Grant Agreement No: | AG41: =AG17 -> 0
S42: =A25 -> Title of the project (acronim) - Grant Agreement No: | AG42: =AG25 -> 0
S43: Other activities | AG43: =AG33 -> 0
S44: Total hours | AG44: =SUM(AG40:AG43) -> 0

Sheet Apr 2023
A1: Name of Beneficiary | B1: Università degli Studi di Roma "Tor Vergata"
A2: Name of staff member | B2: ='Jan 2023'!B2:AG2 -> Prof./Dott. ……..
A3: Type of personnel | B3: ='Jan 2023'!B3:AG3 -> (see Art. 6.2.A Grant Agreement)
A4: Calendar Year | B4: 2023
A5: Calendar Month | B5: April
A7: Date | B7: 1 | C7: 2 | D7: 3 | E7: 4 | F7: 5 | G7: 6 | H7: 7 | I7: 8 | J7: 9 | K7: 10 | L7: 11 | M7: 12 | N7: 13 | O7: 14 | P7: 15 | Q7: 16 | R7: 17 | S7: 18 | T7: 19 | U7: 20 | V7: 21 | W7: 22 | X7: 23 | Y7: 24 | Z7: 25 | AA7: 26 | AB7: 27 | AC7: 28 | AD7: 29 | AE7: 30 | AF7: Total
A8: Day | B8: Sat | C8: Sun | D8: Mon | E8: Tue | F8: Wed | G8: Thu | H8: Fri | I8: Sat | J8: Sun | K8: Mon | L8: Tue | M8: Wed | N8: Thu | O8: Fri | P8: Sat | Q8: Sun | R8: Mon | S8: Tue | T8: Wed | U8: Thu | V8: Fri | W8: Sat | X8: Sun | Y8: Mon | Z8: Tue | AA8: Wed | AB8: Thu | AC8: Fri | AD8: Sat | AE8: Sun
A9: Title of the project (acronim) - Grant Agreement No: | B9: =SUM(B10:B16) -> 0 | C9: =SUM(C10:C16) -> 0 | D9: =SUM(D10:D16) -> 0 | E9: =SUM(E10:E16) -> 0 | F9: =SUM(F10:F16) -> 0 | G9: =SUM(G10:G16) -> 0 | H9: =SUM(H10:H16) -> 0 | I9: =SUM(I10:I16) -> 0 | ... AE9: =SUM(AE10:AE16) -> 0 | AF9: =SUM(B9:AE9) -> 0
A10: WP1 | AF10: =SUM(B10:AE10) -> 0
A11: WP2 | AF11: =SUM(B11:AE11) -> 0
A12: WP3 | AF12: =SUM(B12:AE12) -> 0
A13: WP4 | AF13: =SUM(B13:AE13) -> 0
A14: WP5 | AF14: =SUM(B14:AE14) -> 0
A15: WP6 | AF15: =SUM(B15:AE15) -> 0
A16: WP7 | AF16: =SUM(B16:AE16) -> 0
A17: Title of the project (acronim) - Grant Agreement No: | B17: =SUM(B18:B24) -> 0 | C17: =SUM(C18:C24) -> 0 | D17: =SUM(D18:D24) -> 0 | E17: =SUM(E18:E24) -> 0 | F17: =SUM(F18:F24) -> 0 | G17: =SUM(G18:G24) -> 0 | H17: =SUM(H18:H24) -> 0 | I17: =SUM(I18:I24) -> 0 | ... AE17: =SUM(AE18:AE24) -> 0 | AF17: =SUM(B17:AE17) -> 0
A18: WP1 | AF18: =SUM(B18:AE18) -> 0
A19: WP2 | AF19: =SUM(B19:AE19) -> 0
A20: WP3 | AF20: =SUM(B20:AE20) -> 0
A21: WP4 | AF21: =SUM(B21:AE21) -> 0
A22: WP5 | AF22: =SUM(B22:AE22) -> 0
A23: WP6 | AF23: =SUM(B23:AE23) -> 0
A24: WP7 | AF24: =SUM(B24:AE24) -> 0
A25: Title of the project (acronim) - Grant Agreement No: | B25: =SUM(B26:B32) -> 0 | C25: =SUM(C26:C32) -> 0 | D25: =SUM(D26:D32) -> 0 | E25: =SUM(E26:E32) -> 0 | F25: =SUM(F26:F32) -> 0 | G25: =SUM(G26:G32) -> 0 | H25: =SUM(H26:H32) -> 0 | I25: =SUM(I26:I32) -> 0 | ... AE25: =SUM(AE26:AE32) -> 0 | AF25: =SUM(B25:AE25) -> 0
A26: WP1 | AF26: =SUM(B26:AE26) -> 0
A27: WP2 | AF27: =SUM(B27:AE27) -> 0
A28: WP3 | AF28: =SUM(B28:AE28) -> 0
A29: WP4 | AF29: =SUM(B29:AE29) -> 0
A30: WP5 | AF30: =SUM(B30:AE30) -> 0
A31: WP6 | AF31: =SUM(B31:AE31) -> 0
A32: WP7 | AF32: =SUM(B32:AE32) -> 0
A33: Other activities | B33: =SUM(B34:B36) -> 0 | C33: =SUM(C34:C36) -> 0 | D33: =SUM(D34:D36) -> 0 | E33: =SUM(E34:E36) -> 0 | F33: =SUM(F34:F36) -> 0 | G33: =SUM(G34:G36) -> 0 | H33: =SUM(H34:H36) -> 0 | I33: =SUM(I34:I36) -> 0 | ... AE33: =SUM(AE34:AE36) -> 0 | AF33: =SUM(B33:AE33) -> 0
AF34: =SUM(B34:AE34) -> 0
AF35: =SUM(B35:AE35) -> 0
AF36: =SUM(B36:AE36) -> 0
A37: Total hours | B37: =B9+B17+B25+B33 -> 0 | C37: =C9+C17+C25+C33 -> 0 | D37: =B9+B17+B25+B33 -> 0 | E37: =C9+C17+C25+C33 -> 0 | F37: =D9+D17+D25+D33 -> 0 | G37: =E9+E17+E25+E33 -> 0 | H37: =F9+F17+F25+F33 -> 0 | I37: =G9+G17+G25+G33 -> 0 | J37: =H9+H17+H25+H33 -> 0 | K37: =I9+I17+I25+I33 -> 0 | ... AC37: =AA9+AA17+AA25+AA33 -> 0 | AD37: =AD9+AD17+AD25+AD33 -> 0 | AE37: =AE9+AE17+AE25+AE33 -> 0 | AF37: =SUM(B37:AE37) -> 0
S39: Productive hours per project:
A40: Date and signature of staff member | F40: Date and signature of line manager/supervisor | S40: =A9 -> Title of the project (acronim) - Grant Agreement No: | AF40: =AF9 -> 0
S41: =A17 -> Title of the project (acronim) - Grant Agreement No: | AF41: =AF17 -> 0
S42: =A25 -> Title of the project (acronim) - Grant Agreement No: | AF42: =AF25 -> 0
S43: Other activities | AF43: =AF33 -> 0
S44: Total hours | AF44: =SUM(AF40:AF43) -> 0

Sheet May 2023
A1: Name of Beneficiary | B1: Università degli Studi di Roma "Tor Vergata"
A2: Name of staff member | B2: ='Jan 2023'!B2:AG2 -> Prof./Dott. ……..
A3: Type of personnel | B3: ='Jan 2023'!B3:AG3 -> (see Art. 6.2.A Grant Agreement)
A4: Calendar Year | B4: 2023
A5: Calendar Month | B5: May
A7: Date | B7: 1 | C7: 2 | D7: 3 | E7: 4 | F7: 5 | G7: 6 | H7: 7 | I7: 8 | J7: 9 | K7: 10 | L7: 11 | M7: 12 | N7: 13 | O7: 14 | P7: 15 | Q7: 16 | R7: 17 | S7: 18 | T7: 19 | U7: 20 | V7: 21 | W7: 22 | X7: 23 | Y7: 24 | Z7: 25 | AA7: 26 | AB7: 27 | AC7: 28 | AD7: 29 | AE7: 30 | AF7: 31 | AG7: Total
A8: Day | B8: Mon | C8: Tue | D8: Wed | E8: Thu | F8: Fri | G8: Sat | H8: Sun | I8: Mon | J8: Tue | K8: Wed | L8: Thu | M8: Fri | N8: Sat | O8: Sun | P8: Mon | Q8: Tue | R8: Wed | S8: Thu | T8: Fri | U8: Sat | V8: Sun | W8: Mon | X8: Tue | Y8: Wed | Z8: Thu | AA8: Fri | AB8: Sat | AC8: Sun | AD8: Mon | AE8: Tue | AF8: Wed
A9: Title of the project (acronim) - Grant Agreement No: | B9: =SUM(B10:B16) -> 0 | C9: =SUM(C10:C16) -> 0 | D9: =SUM(D10:D16) -> 0 | E9: =SUM(E10:E16) -> 0 | F9: =SUM(F10:F16) -> 0 | G9: =SUM(G10:G16) -> 0 | H9: =SUM(H10:H16) -> 0 | I9: =SUM(I10:I16) -> 0 | ... AF9: =SUM(AF10:AF16) -> 0 | AG9: =SUM(B9:AF9) -> 0
A10: WP1 | AG10: =SUM(B10:AF10) -> 0
A11: WP2 | AG11: =SUM(B11:AF11) -> 0
A12: WP3 | AG12: =SUM(B12:AF12) -> 0
A13: WP4 | AG13: =SUM(B13:AF13) -> 0
A14: WP5 | AG14: =SUM(B14:AF14) -> 0
A15: WP6 | AG15: =SUM(B15:AF15) -> 0
A16: WP7 | AG16: =SUM(B16:AF16) -> 0
A17: Title of the project (acronim) - Grant Agreement No: | B17: =SUM(B18:B24) -> 0 | C17: =SUM(C18:C24) -> 0 | D17: =SUM(D18:D24) -> 0 | E17: =SUM(E18:E24) -> 0 | F17: =SUM(F18:F24) -> 0 | G17: =SUM(G18:G24) -> 0 | H17: =SUM(H18:H24) -> 0 | I17: =SUM(I18:I24) -> 0 | ... AF17: =SUM(AF18:AF24) -> 0 | AG17: =SUM(B17:AF17) -> 0
A18: WP1 | AG18: =SUM(B18:AF18) -> 0
A19: WP2 | AG19: =SUM(B19:AF19) -> 0
A20: WP3 | AG20: =SUM(B20:AF20) -> 0
A21: WP4 | AG21: =SUM(B21:AF21) -> 0
A22: WP5 | AG22: =SUM(B22:AF22) -> 0
A23: WP6 | AG23: =SUM(B23:AF23) -> 0
A24: WP7 | AG24: =SUM(B24:AF24) -> 0
A25: Title of the project (acronim) - Grant Agreement No: | B25: =SUM(B26:B32) -> 0 | C25: =SUM(C26:C32) -> 0 | D25: =SUM(D26:D32) -> 0 | E25: =SUM(E26:E32) -> 0 | F25: =SUM(F26:F32) -> 0 | G25: =SUM(G26:G32) -> 0 | H25: =SUM(H26:H32) -> 0 | I25: =SUM(I26:I32) -> 0 | ... AF25: =SUM(AF26:AF32) -> 0 | AG25: =SUM(B25:AF25) -> 0
A26: WP1 | AG26: =SUM(B26:AF26) -> 0
A27: WP2 | AG27: =SUM(B27:AF27) -> 0
A28: WP3 | AG28: =SUM(B28:AF28) -> 0
A29: WP4 | AG29: =SUM(B29:AF29) -> 0
A30: WP5 | AG30: =SUM(B30:AF30) -> 0
A31: WP6 | AG31: =SUM(B31:AF31) -> 0
A32: WP7 | AG32: =SUM(B32:AF32) -> 0
A33: Other activities | B33: =SUM(B34:B36) -> 0 | C33: =SUM(C34:C36) -> 0 | D33: =SUM(D34:D36) -> 0 | E33: =SUM(E34:E36) -> 0 | F33: =SUM(F34:F36) -> 0 | G33: =SUM(G34:G36) -> 0 | H33: =SUM(H34:H36) -> 0 | I33: =SUM(I34:I36) -> 0 | ... AF33: =SUM(AF34:AF36) -> 0 | AG33: =SUM(B33:AF33) -> 0
AG34: =SUM(B34:AF34) -> 0
AG35: =SUM(B35:AF35) -> 0
AG36: =SUM(B36:AF36) -> 0
A37: Total hours | B37: =B9+B17+B25+B33 -> 0 | C37: =C9+C17+C25+C33 -> 0 | D37: =D9+D17+D25+D33 -> 0 | E37: =E9+E17+E25+E33 -> 0 | F37: =F9+F17+F25+F33 -> 0 | G37: =G9+G17+G25+G33 -> 0 | H37: =H9+H17+H25+H33 -> 0 | I37: =I9+I17+I25+I33 -> 0 | ... AF37: =AF9+AF17+AF25+AF33 -> 0 | AG37: =SUM(B37:AF37) -> 0
S39: Productive hours per project:
A40: Date and signature of staff member | F40: Date and signature of line manager/supervisor | S40: =A9 -> Title of the project (acronim) - Grant Agreement No: | AG40: =AG9 -> 0
S41: =A17 -> Title of the project (acronim) - Grant Agreement No: | AG41: =AG17 -> 0
S42: =A25 -> Title of the project (acronim) - Grant Agreement No: | AG42: =AG25 -> 0
S43: Other activities | AG43: =AG33 -> 0
S44: Total hours | AG44: =SUM(AG40:AG43) -> 0

Sheet Jun 2023
A1: Name of Beneficiary | B1: Università degli Studi di Roma "Tor Vergata"
A2: Name of staff member | B2: ='Jan 2023'!B2:AG2 -> Prof./Dott. ……..
A3: Type of personnel | B3: ='Jan 2023'!B3:AG3 -> (see Art. 6.2.A Grant Agreement)
A4: Calendar Year | B4: 2023
A5: Calendar Month | B5: June
A7: Date | B7: 1 | C7: 2 | D7: 3 | E7: 4 | F7: 5 | G7: 6 | H7: 7 | I7: 8 | J7: 9 | K7: 10 | L7: 11 | M7: 12 | N7: 13 | O7: 14 | P7: 15 | Q7: 16 | R7: 17 | S7: 18 | T7: 19 | U7: 20 | V7: 21 | W7: 22 | X7: 23 | Y7: 24 | Z7: 25 | AA7: 26 | AB7: 27 | AC7: 28 | AD7: 29 | AE7: 30 | AF7: Total
A8: Day | B8: Thu | C8: Fri | D8: Sat | E8: Sun | F8: Mon | G8: Tue | H8: Wed | I8: Thu | J8: Fri | K8: Sat | L8: Sun | M8: Mon | N8: Tue | O8: Wed | P8: Thu | Q8: Fri | R8: Sat | S8: Sun | T8: Mon | U8: Tue | V8: Wed | W8: Thu | X8: Fri | Y8: Sat | Z8: Sun | AA8: Mon | AB8: Tue | AC8: Wed | AD8: Thu | AE8: Fri
A9: Title of the project (acronim) - Grant Agreement No: | B9: =SUM(B10:B16) -> 0 | C9: =SUM(C10:C16) -> 0 | D9: =SUM(D10:D16) -> 0 | E9: =SUM(E10:E16) -> 0 | F9: =SUM(F10:F16) -> 0 | G9: =SUM(G10:G16) -> 0 | H9: =SUM(H10:H16) -> 0 | I9: =SUM(I10:I16) -> 0 | ... AE9: =SUM(AE10:AE16) -> 0 | AF9: =SUM(B9:AE9) -> 0
A10: WP1 | AF10: =SUM(B10:AE10) -> 0
A11: WP2 | AF11: =SUM(B11:AE11) -> 0
A12: WP3 | AF12: =SUM(B12:AE12) -> 0
A13: WP4 | AF13: =SUM(B13:AE13) -> 0
A14: WP5 | AF14: =SUM(B14:AE14) -> 0
A15: WP6 | AF15: =SUM(B15:AE15) -> 0
A16: WP7 | AF16: =SUM(B16:AE16) -> 0
A17: Title of the project (acronim) - Grant Agreement No: | B17: =SUM(B18:B24) -> 0 | C17: =SUM(C18:C24) -> 0 | D17: =SUM(D18:D24) -> 0 | E17: =SUM(E18:E24) -> 0 | F17: =SUM(F18:F24) -> 0 | G17: =SUM(G18:G24) -> 0 | H17: =SUM(H18:H24) -> 0 | I17: =SUM(I18:I24) -> 0 | ... AE17: =SUM(AE18:AE24) -> 0 | AF17: =SUM(B17:AE17) -> 0
A18: WP1 | AF18: =SUM(B18:AE18) -> 0
A19: WP2 | AF19: =SUM(B19:AE19) -> 0
A20: WP3 | AF20: =SUM(B20:AE20) -> 0
A21: WP4 | AF21: =SUM(B21:AE21) -> 0
A22: WP5 | AF22: =SUM(B22:AE22) -> 0
A23: WP6 | AF23: =SUM(B23:AE23) -> 0
A24: WP7 | AF24: =SUM(B24:AE24) -> 0
A25: Title of the project (acronim) - Grant Agreement No: | B25: =SUM(B26:B32) -> 0 | C25: =SUM(C26:C32) -> 0 | D25: =SUM(D26:D32) -> 0 | E25: =SUM(E26:E32) -> 0 | F25: =SUM(F26:F32) -> 0 | G25: =SUM(G26:G32) -> 0 | H25: =SUM(H26:H32) -> 0 | I25: =SUM(I26:I32) -> 0 | ... AE25: =SUM(AE26:AE32) -> 0 | AF25: =SUM(B25:AE25) -> 0
A26: WP1 | AF26: =SUM(B26:AE26) -> 0
A27: WP2 | AF27: =SUM(B27:AE27) -> 0
A28: WP3 | AF28: =SUM(B28:AE28) -> 0
A29: WP4 | AF29: =SUM(B29:AE29) -> 0
A30: WP5 | AF30: =SUM(B30:AE30) -> 0
A31: WP6 | AF31: =SUM(B31:AE31) -> 0
A32: WP7 | AF32: =SUM(B32:AE32) -> 0
A33: Other activities | B33: =SUM(B34:B36) -> 0 | C33: =SUM(C34:C36) -> 0 | D33: =SUM(D34:D36) -> 0 | E33: =SUM(E34:E36) -> 0 | F33: =SUM(F34:F36) -> 0 | G33: =SUM(G34:G36) -> 0 | H33: =SUM(H34:H36) -> 0 | I33: =SUM(I34:I36) -> 0 | ... AE33: =SUM(AE34:AE36) -> 0 | AF33: =SUM(B33:AE33) -> 0
AF34: =SUM(B34:AE34) -> 0
AF35: =SUM(B35:AE35) -> 0
AF36: =SUM(B36:AE36) -> 0
A37: Total hours | B37: =B9+B17+B25+B33 -> 0 | C37: =C9+C17+C25+C33 -> 0 | D37: =D9+D17+D25+D33 -> 0 | E37: =E9+E17+E25+E33 -> 0 | F37: =F9+F17+F25+F33 -> 0 | G37: =G9+G17+G25+G33 -> 0 | H37: =H9+H17+H25+H33 -> 0 | I37: =I9+I17+I25+I33 -> 0 | ... AE37: =AE9+AE17+AE25+AE33 -> 0 | AF37: =SUM(B37:AE37) -> 0
S39: Productive hours per project:
A40: Date and signature of staff member | F40: Date and signature of line manager/supervisor | S40: =A9 -> Title of the project (acronim) - Grant Agreement No: | AF40: =AF9 -> 0
S41: =A17 -> Title of the project (acronim) - Grant Agreement No: | AF41: =AF17 -> 0
S42: =A25 -> Title of the project (acronim) - Grant Agreement No: | AF42: =AF25 -> 0
S43: Other activities | AF43: =AF33 -> 0
S44: Total hours | AF44: =SUM(AF40:AF43) -> 0

Sheet Jul 2023
A1: Name of Beneficiary | B1: Università degli Studi di Roma "Tor Vergata"
A2: Name of staff member | B2: ='Jan 2023'!B2:AG2 -> Prof./Dott. ……..
A3: Type of personnel | B3: ='Jan 2023'!B3:AG3 -> (see Art. 6.2.A Grant Agreement)
A4: Calendar Year | B4: 2023
A5: Calendar Month | B5: July
A7: Date | B7: 1 | C7: 2 | D7: 3 | E7: 4 | F7: 5 | G7: 6 | H7: 7 | I7: 8 | J7: 9 | K7: 10 | L7: 11 | M7: 12 | N7: 13 | O7: 14 | P7: 15 | Q7: 16 | R7: 17 | S7: 18 | T7: 19 | U7: 20 | V7: 21 | W7: 22 | X7: 23 | Y7: 24 | Z7: 25 | AA7: 26 | AB7: 27 | AC7: 28 | AD7: 29 | AE7: 30 | AF7: 31 | AG7: Total
A8: Day | B8: Sat | C8: Sun | D8: Mon | E8: Tue | F8: Wed | G8: Thu | H8: Fri | I8: Sat | J8: Sun | K8: Mon | L8: Tue | M8: Wed | N8: Thu | O8: Fri | P8: Sat | Q8: Sun | R8: Mon | S8: Tue | T8: Wed | U8: Thu | V8: Fri | W8: Sat | X8: Sun | Y8: Mon | Z8: Tue | AA8: Wed | AB8: Thu | AC8: Fri | AD8: Sat | AE8: Sun | AF8: Mon
A9: Title of the project (acronim) - Grant Agreement No: | B9: =SUM(B10:B16) -> 0 | C9: =SUM(C10:C16) -> 0 | D9: =SUM(D10:D16) -> 0 | E9: =SUM(E10:E16) -> 0 | F9: =SUM(F10:F16) -> 0 | G9: =SUM(G10:G16) -> 0 | H9: =SUM(H10:H16) -> 0 | I9: =SUM(I10:I16) -> 0 | ... AF9: =SUM(AF10:AF16) -> 0 | AG9: =SUM(B9:AF9) -> 0
A10: WP1 | AG10: =SUM(B10:AF10) -> 0
A11: WP2 | AG11: =SUM(B11:AF11) -> 0
A12: WP3 | AG12: =SUM(B12:AF12) -> 0
A13: WP4 | AG13: =SUM(B13:AF13) -> 0
A14: WP5 | AG14: =SUM(B14:AF14) -> 0
A15: WP6 | AG15: =SUM(B15:AF15) -> 0
A16: WP7 | AG16: =SUM(B16:AF16) -> 0
A17: Title of the project (acronim) - Grant Agreement No: | B17: =SUM(B18:B24) -> 0 | C17: =SUM(C18:C24) -> 0 | D17: =SUM(D18:D24) -> 0 | E17: =SUM(E18:E24) -> 0 | F17: =SUM(F18:F24) -> 0 | G17: =SUM(G18:G24) -> 0 | H17: =SUM(H18:H24) -> 0 | I17: =SUM(I18:I24) -> 0 | ... AF17: =SUM(AF18:AF24) -> 0 | AG17: =SUM(B17:AF17) -> 0
A18: WP1 | AG18: =SUM(B18:AF18) -> 0
A19: WP2 | AG19: =SUM(B19:AF19) -> 0
A20: WP3 | AG20: =SUM(B20:AF20) -> 0
A21: WP4 | AG21: =SUM(B21:AF21) -> 0
A22: WP5 | AG22: =SUM(B22:AF22) -> 0
A23: WP6 | AG23: =SUM(B23:AF23) -> 0
A24: WP7 | AG24: =SUM(B24:AF24) -> 0
A25: Title of the project (acronim) - Grant Agreement No: | B25: =SUM(B26:B32) -> 0 | C25: =SUM(C26:C32) -> 0 | D25: =SUM(D26:D32) -> 0 | E25: =SUM(E26:E32) -> 0 | F25: =SUM(F26:F32) -> 0 | G25: =SUM(G26:G32) -> 0 | H25: =SUM(H26:H32) -> 0 | I25: =SUM(I26:I32) -> 0 | ... AF25: =SUM(AF26:AF32) -> 0 | AG25: =SUM(B25:AF25) -> 0
A26: WP1 | AG26: =SUM(B26:AF26) -> 0
A27: WP2 | AG27: =SUM(B27:AF27) -> 0
A28: WP3 | AG28: =SUM(B28:AF28) -> 0
A29: WP4 | AG29: =SUM(B29:AF29) -> 0
A30: WP5 | AG30: =SUM(B30:AF30) -> 0
A31: WP6 | AG31: =SUM(B31:AF31) -> 0
A32: WP7 | AG32: =SUM(B32:AF32) -> 0
A33: Other activities | B33: =SUM(B34:B36) -> 0 | C33: =SUM(C34:C36) -> 0 | D33: =SUM(D34:D36) -> 0 | E33: =SUM(E34:E36) -> 0 | F33: =SUM(F34:F36) -> 0 | G33: =SUM(G34:G36) -> 0 | H33: =SUM(H34:H36) -> 0 | I33: =SUM(I34:I36) -> 0 | ... AF33: =SUM(AF34:AF36) -> 0 | AG33: =SUM(B33:AF33) -> 0
AG34: =SUM(B34:AF34) -> 0
AG35: =SUM(B35:AF35) -> 0
AG36: =SUM(B36:AF36) -> 0
A37: Total hours | B37: =B9+B17+B25+B33 -> 0 | C37: =C9+C17+C25+C33 -> 0 | D37: =D9+D17+D25+D33 -> 0 | E37: =E9+E17+E25+E33 -> 0 | F37: =F9+F17+F25+F33 -> 0 | G37: =G9+G17+G25+G33 -> 0 | H37: =H9+H17+H25+H33 -> 0 | I37: =I9+I17+I25+I33 -> 0 | ... AF37: =AF9+AF17+AF25+AF33 -> 0 | AG37: =SUM(B37:AF37) -> 0
S39: Productive hours per project:
A40: Date and signature of staff member | F40: Date and signature of line manager/supervisor | S40: =A9 -> Title of the project (acronim) - Grant Agreement No: | AG40: =AG9 -> 0
S41: =A17 -> Title of the project (acronim) - Grant Agreement No: | AG41: =AG17 -> 0
S42: =A25 -> Title of the project (acronim) - Grant Agreement No: | AG42: =AG25 -> 0
S43: Other activities | AG43: =AG33 -> 0
S44: Total hours | AG44: =SUM(AG40:AG43) -> 0

Sheet Aug 2023
A1: Name of Beneficiary | B1: Università degli Studi di Roma "Tor Vergata"
A2: Name of staff member | B2: ='Jan 2023'!B2:AG2 -> Prof./Dott. ……..
A3: Type of personnel | B3: ='Jan 2023'!B3:AG3 -> (see Art. 6.2.A Grant Agreement)
A4: Calendar Year | B4: 2023
A5: Calendar Month | B5: August
A7: Date | B7: 1 | C7: 2 | D7: 3 | E7: 4 | F7: 5 | G7: 6 | H7: 7 | I7: 8 | J7: 9 | K7: 10 | L7: 11 | M7: 12 | N7: 13 | O7: 14 | P7: 15 | Q7: 16 | R7: 17 | S7: 18 | T7: 19 | U7: 20 | V7: 21 | W7: 22 | X7: 23 | Y7: 24 | Z7: 25 | AA7: 26 | AB7: 27 | AC7: 28 | AD7: 29 | AE7: 30 | AF7: 31 | AG7: Total
A8: Day | B8: Tue | C8: Wed | D8: Thu | E8: Fri | F8: Sat | G8: Sun | H8: Mon | I8: Tue | J8: Wed | K8: Thu | L8: Fri | M8: Sat | N8: Sun | O8: Mon | P8: Tue | Q8: Wed | R8: Thu | S8: Fri | T8: Sat | U8: Sun | V8: Mon | W8: Tue | X8: Wed | Y8: Thu | Z8: Fri | AA8: Sat | AB8: Sun | AC8: Mon | AD8: Tue | AE8: Wed | AF8: Thu
A9: Title of the project (acronim) - Grant Agreement No: | B9: =SUM(B10:B16) -> 0 | C9: =SUM(C10:C16) -> 0 | D9: =SUM(D10:D16) -> 0 | E9: =SUM(E10:E16) -> 0 | F9: =SUM(F10:F16) -> 0 | G9: =SUM(G10:G16) -> 0 | H9: =SUM(H10:H16) -> 0 | I9: =SUM(I10:I16) -> 0 | ... AF9: =SUM(AF10:AF16) -> 0 | AG9: =SUM(B9:AF9) -> 0
A10: WP1 | AG10: =SUM(B10:AF10) -> 0
A11: WP2 | AG11: =SUM(B11:AF11) -> 0
A12: WP3 | AG12: =SUM(B12:AF12) -> 0
A13: WP4 | AG13: =SUM(B13:AF13) -> 0
A14: WP5 | AG14: =SUM(B14:AF14) -> 0
A15: WP6 | AG15: =SUM(B15:AF15) -> 0
A16: WP7 | AG16: =SUM(B16:AF16) -> 0
A17: Title of the project (acronim) - Grant Agreement No: | B17: =SUM(B18:B24) -> 0 | C17: =SUM(C18:C24) -> 0 | D17: =SUM(D18:D24) -> 0 | E17: =SUM(E18:E24) -> 0 | F17: =SUM(F18:F24) -> 0 | G17: =SUM(G18:G24) -> 0 | H17: =SUM(H18:H24) -> 0 | I17: =SUM(I18:I24) -> 0 | ... AF17: =SUM(AF18:AF24) -> 0 | AG17: =SUM(B17:AF17) -> 0
A18: WP1 | AG18: =SUM(B18:AF18) -> 0
A19: WP2 | AG19: =SUM(B19:AF19) -> 0
A20: WP3 | AG20: =SUM(B20:AF20) -> 0
A21: WP4 | AG21: =SUM(B21:AF21) -> 0
A22: WP5 | AG22: =SUM(B22:AF22) -> 0
A23: WP6 | AG23: =SUM(B23:AF23) -> 0
A24: WP7 | AG24: =SUM(B24:AF24) -> 0
A25: Title of the project (acronim) - Grant Agreement No: | B25: =SUM(B26:B32) -> 0 | C25: =SUM(C26:C32) -> 0 | D25: =SUM(D26:D32) -> 0 | E25: =SUM(E26:E32) -> 0 | F25: =SUM(F26:F32) -> 0 | G25: =SUM(G26:G32) -> 0 | H25: =SUM(H26:H32) -> 0 | I25: =SUM(I26:I32) -> 0 | ... AF25: =SUM(AF26:AF32) -> 0 | AG25: =SUM(B25:AF25) -> 0
A26: WP1 | AG26: =SUM(B26:AF26) -> 0
A27: WP2 | AG27: =SUM(B27:AF27) -> 0
A28: WP3 | AG28: =SUM(B28:AF28) -> 0
A29: WP4 | AG29: =SUM(B29:AF29) -> 0
A30: WP5 | AG30: =SUM(B30:AF30) -> 0
A31: WP6 | AG31: =SUM(B31:AF31) -> 0
A32: WP7 | AG32: =SUM(B32:AF32) -> 0
A33: Other activities | B33: =SUM(B34:B36) -> 0 | C33: =SUM(C34:C36) -> 0 | D33: =SUM(D34:D36) -> 0 | E33: =SUM(E34:E36) -> 0 | F33: =SUM(F34:F36) -> 0 | G33: =SUM(G34:G36) -> 0 | H33: =SUM(H34:H36) -> 0 | I33: =SUM(I34:I36) -> 0 | ... AF33: =SUM(AF34:AF36) -> 0 | AG33: =SUM(B33:AF33) -> 0
AG34: =SUM(B34:AF34) -> 0
AG35: =SUM(B35:AF35) -> 0
AG36: =SUM(B36:AF36) -> 0
A37: Total hours | B37: =SUM(B9+B17+B25+B33) -> 0 | C37: =SUM(C9+C17+C25+C33) -> 0 | D37: =SUM(D9+D17+D25+D33) -> 0 | E37: =SUM(E9+E17+E25+E33) -> 0 | F37: =SUM(F9+F17+F25+F33) -> 0 | G37: =SUM(G9+G17+G25+G33) -> 0 | H37: =SUM(H9+H17+H25+H33) -> 0 | I37: =SUM(I9+I17+I25+I33) -> 0 | ... AF37: =SUM(AF9+AF17+AF25+AF33) -> 0 | AG37: =SUM(B37:AF37) -> 0
S39: Productive hours per project:
A40: Date and signature of staff member | F40: Date and signature of line manager/supervisor | S40: =A9 -> Title of the project (acronim) - Grant Agreement No: | AG40: =AG9 -> 0
S41: =A17 -> Title of the project (acronim) - Grant Agreement No: | AG41: =AG17 -> 0
S42: =A25 -> Title of the project (acronim) - Grant Agreement No: | AG42: =AG25 -> 0
S43: Other activities | AG43: =AG33 -> 0
S44: Total hours | AG44: =SUM(AG40:AG43) -> 0

Sheet Sep 2023
A1: Name of Beneficiary | B1: Università degli Studi di Roma "Tor Vergata"
A2: Name of staff member | B2: ='Jan 2023'!B2:AG2 -> Prof./Dott. ……..
A3: Type of personnel | B3: ='Jan 2023'!B3:AG3 -> (see Art. 6.2.A Grant Agreement)
A4: Calendar Year | B4: 2023
A5: Calendar Month | B5: September
A7: Date | B7: 1 | C7: 2 | D7: 3 | E7: 4 | F7: 5 | G7: 6 | H7: 7 | I7: 8 | J7: 9 | K7: 10 | L7: 11 | M7: 12 | N7: 13 | O7: 14 | P7: 15 | Q7: 16 | R7: 17 | S7: 18 | T7: 19 | U7: 20 | V7: 21 | W7: 22 | X7: 23 | Y7: 24 | Z7: 25 | AA7: 26 | AB7: 27 | AC7: 28 | AD7: 29 | AE7: 30 | AF7: Total
A8: Day | B8: Fri | C8: Sat | D8: Sun | E8: Mon | F8: Tue | G8: Wed | H8: Thu | I8: Fri | J8: Sat | K8: Sun | L8: Mon | M8: Tue | N8: Wed | O8: Thu | P8: Fri | Q8: Sat | R8: Sun | S8: Mon | T8: Tue | U8: Wed | V8: Thu | W8: Fri | X8: Sat | Y8: Sun | Z8: Mon | AA8: Tue | AB8: Wed | AC8: Thu | AD8: Fri | AE8: Sat
A9: Title of the project (acronim) - Grant Agreement No: | B9: =SUM(B10:B16) -> 0 | C9: =SUM(C10:C16) -> 0 | D9: =SUM(D10:D16) -> 0 | E9: =SUM(E10:E16) -> 0 | F9: =SUM(F10:F16) -> 0 | G9: =SUM(G10:G16) -> 0 | H9: =SUM(H10:H16) -> 0 | I9: =SUM(I10:I16) -> 0 | ... AE9: =SUM(AE10:AE16) -> 0 | AF9: =SUM(B9:AE9) -> 0
A10: WP1 | AF10: =SUM(B10:AE10) -> 0
A11: WP2 | AF11: =SUM(B11:AE11) -> 0
A12: WP3 | AF12: =SUM(B12:AE12) -> 0
A13: WP4 | AF13: =SUM(B13:AE13) -> 0
A14: WP5 | AF14: =SUM(B14:AE14) -> 0
A15: WP6 | AF15: =SUM(B15:AE15) -> 0
A16: WP7 | AF16: =SUM(B16:AE16) -> 0
A17: Title of the project (acronim) - Grant Agreement No: | B17: =SUM(B18:B24) -> 0 | C17: =SUM(C18:C24) -> 0 | D17: =SUM(D18:D24) -> 0 | E17: =SUM(E18:E24) -> 0 | F17: =SUM(F18:F24) -> 0 | G17: =SUM(G18:G24) -> 0 | H17: =SUM(H18:H24) -> 0 | I17: =SUM(I18:I24) -> 0 | ... AE17: =SUM(AE18:AE24) -> 0 | AF17: =SUM(B17:AE17) -> 0
A18: WP1 | AF18: =SUM(B18:AE18) -> 0
A19: WP2 | AF19: =SUM(B19:AE19) -> 0
A20: WP3 | AF20: =SUM(B20:AE20) -> 0
A21: WP4 | AF21: =SUM(B21:AE21) -> 0
A22: WP5 | AF22: =SUM(B22:AE22) -> 0
A23: WP6 | AF23: =SUM(B23:AE23) -> 0
A24: WP7 | AF24: =SUM(B24:AE24) -> 0
A25: Title of the project (acronim) - Grant Agreement No: | B25: =SUM(B26:B32) -> 0 | C25: =SUM(C26:C32) -> 0 | D25: =SUM(D26:D32) -> 0 | E25: =SUM(E26:E32) -> 0 | F25: =SUM(F26:F32) -> 0 | G25: =SUM(G26:G32) -> 0 | H25: =SUM(H26:H32) -> 0 | I25: =SUM(I26:I32) -> 0 | ... AE25: =SUM(AE26:AE32) -> 0 | AF25: =SUM(B25:AE25) -> 0
A26: WP1 | AF26: =SUM(B26:AE26) -> 0
A27: WP2 | AF27: =SUM(B27:AE27) -> 0
A28: WP3 | AF28: =SUM(B28:AE28) -> 0
A29: WP4 | AF29: =SUM(B29:AE29) -> 0
A30: WP5 | AF30: =SUM(B30:AE30) -> 0
A31: WP6 | AF31: =SUM(B31:AE31) -> 0
A32: WP7 | AF32: =SUM(B32:AE32) -> 0
A33: Other activities | B33: =SUM(B34:B36) -> 0 | C33: =SUM(C34:C36) -> 0 | D33: =SUM(D34:D36) -> 0 | E33: =SUM(E34:E36) -> 0 | F33: =SUM(F34:F36) -> 0 | G33: =SUM(G34:G36) -> 0 | H33: =SUM(H34:H36) -> 0 | I33: =SUM(I34:I36) -> 0 | ... AE33: =SUM(AE34:AE36) -> 0 | AF33: =SUM(B33:AE33) -> 0
AF34: =SUM(B34:AE34) -> 0
AF35: =SUM(B35:AE35) -> 0
AF36: =SUM(B36:AE36) -> 0
A37: Total hours | B37: =B9+B17+B25+B33 -> 0 | C37: =C9+C17+C25+C33 -> 0 | D37: =D9+D17+D25+D33 -> 0 | E37: =E9+E17+E25+E33 -> 0 | F37: =F9+F17+F25+F33 -> 0 | G37: =G9+G17+G25+G33 -> 0 | H37: =H9+H17+H25+H33 -> 0 | I37: =I9+I17+I25+I33 -> 0 | ... AE37: =AE9+AE17+AE25+AE33 -> 0 | AF37: =SUM(B37:AE37) -> 0
S39: Productive hours per project:
A40: Date and signature of staff member | F40: Date and signature of line manager/supervisor | S40: =A9 -> Title of the project (acronim) - Grant Agreement No: | AF40: =AF9 -> 0
S41: =A17 -> Title of the project (acronim) - Grant Agreement No: | AF41: =AF17 -> 0
S42: =A25 -> Title of the project (acronim) - Grant Agreement No: | AF42: =AF25 -> 0
S43: Other activities | AF43: =AF33 -> 0
S44: Total hours | AF44: =SUM(AF40:AF43) -> 0

Sheet Oct 2023
A1: Name of Beneficiary | B1: Università degli Studi di Roma "Tor Vergata"
A2: Name of staff member | B2: ='Jan 2023'!B2:AG2 -> Prof./Dott. ……..
A3: Type of personnel | B3: ='Jan 2023'!B3:AG3 -> (see Art. 6.2.A Grant Agreement)
A4: Calendar Year | B4: 2023
A5: Calendar Month | B5: October
A7: Date | B7: 1 | C7: 2 | D7: 3 | E7: 4 | F7: 5 | G7: 6 | H7: 7 | I7: 8 | J7: 9 | K7: 10 | L7: 11 | M7: 12 | N7: 13 | O7: 14 | P7: 15 | Q7: 16 | R7: 17 | S7: 18 | T7: 19 | U7: 20 | V7: 21 | W7: 22 | X7: 23 | Y7: 24 | Z7: 25 | AA7: 26 | AB7: 27 | AC7: 28 | AD7: 29 | AE7: 30 | AF7: 31 | AG7: Total
A8: Day | B8: Sun | C8: Mon | D8: Tue | E8: Wed | F8: Thu | G8: Fri | H8: Sat | I8: Sun | J8: Mon | K8: Tue | L8: Wed | M8: Thu | N8: Fri | O8: Sat | P8: Sun | Q8: Mon | R8: Tue | S8: Wed | T8: Thu | U8: Fri | V8: Sat | W8: Sun | X8: Mon | Y8: Tue | Z8: Wen | AA8: Thu | AB8: Fri | AC8: Sat | AD8: Sun | AE8: Mon | AF8: Tue
A9: Title of the project (acronim) - Grant Agreement No: | B9: =SUM(B10:B16) -> 0 | C9: =SUM(C10:C16) -> 0 | D9: =SUM(D10:D16) -> 0 | E9: =SUM(E10:E16) -> 0 | F9: =SUM(F10:F16) -> 0 | G9: =SUM(G10:G16) -> 0 | H9: =SUM(H10:H16) -> 0 | I9: =SUM(I10:I16) -> 0 | ... AF9: =SUM(AF10:AF16) -> 0 | AG9: =SUM(B9:AF9) -> 0
A10: WP1 | AG10: =SUM(B10:AF10) -> 0
A11: WP2 | AG11: =SUM(B11:AF11) -> 0
A12: WP3 | AG12: =SUM(B12:AF12) -> 0
A13: WP4 | AG13: =SUM(B13:AF13) -> 0
A14: WP5 | AG14: =SUM(B14:AF14) -> 0
A15: WP6 | AG15: =SUM(B15:AF15) -> 0
A16: WP7 | AG16: =SUM(B16:AF16) -> 0
A17: Title of the project (acronim) - Grant Agreement No: | B17: =SUM(B18:B24) -> 0 | C17: =SUM(C18:C24) -> 0 | D17: =SUM(D18:D24) -> 0 | E17: =SUM(E18:E24) -> 0 | F17: =SUM(F18:F24) -> 0 | G17: =SUM(G18:G24) -> 0 | H17: =SUM(H18:H24) -> 0 | I17: =SUM(I18:I24) -> 0 | ... AF17: =SUM(AF18:AF24) -> 0 | AG17: =SUM(B17:AF17) -> 0
A18: WP1 | AG18: =SUM(B18:AF18) -> 0
A19: WP2 | AG19: =SUM(B19:AF19) -> 0
A20: WP3 | AG20: =SUM(B20:AF20) -> 0
A21: WP4 | AG21: =SUM(B21:AF21) -> 0
A22: WP5 | AG22: =SUM(B22:AF22) -> 0
A23: WP6 | AG23: =SUM(B23:AF23) -> 0
A24: WP7 | AG24: =SUM(B24:AF24) -> 0
A25: Title of the project (acronim) - Grant Agreement No: | B25: =SUM(B26:B32) -> 0 | C25: =SUM(C26:C32) -> 0 | D25: =SUM(D26:D32) -> 0 | E25: =SUM(E26:E32) -> 0 | F25: =SUM(F26:F32) -> 0 | G25: =SUM(G26:G32) -> 0 | H25: =SUM(H26:H32) -> 0 | I25: =SUM(I26:I32) -> 0 | ... AF25: =SUM(AF26:AF32) -> 0 | AG25: =SUM(B25:AF25) -> 0
A26: WP1 | AG26: =SUM(B26:AF26) -> 0
A27: WP2 | AG27: =SUM(B27:AF27) -> 0
A28: WP3 | AG28: =SUM(B28:AF28) -> 0
A29: WP4 | AG29: =SUM(B29:AF29) -> 0
A30: WP5 | AG30: =SUM(B30:AF30) -> 0
A31: WP6 | AG31: =SUM(B31:AF31) -> 0
A32: WP7 | AG32: =SUM(B32:AF32) -> 0
A33: Other activities | B33: =SUM(B34:B36) -> 0 | C33: =SUM(C34:C36) -> 0 | D33: =SUM(D34:D36) -> 0 | E33: =SUM(E34:E36) -> 0 | F33: =SUM(F34:F36) -> 0 | G33: =SUM(G34:G36) -> 0 | H33: =SUM(H34:H36) -> 0 | I33: =SUM(I34:I36) -> 0 | ... AF33: =SUM(AF34:AF36) -> 0 | AG33: =SUM(B33:AF33) -> 0
AG34: =SUM(B34:AF34) -> 0
AG35: =SUM(B35:AF35) -> 0
AG36: =SUM(B36:AF36) -> 0
A37: Total hours | B37: =B9+B17+B25+B33 -> 0 | C37: =C9+C17+C25+C33 -> 0 | D37: =D9+D17+D25+D33 -> 0 | E37: =E9+E17+E25+E33 -> 0 | F37: =F9+F17+F25+F33 -> 0 | G37: =G9+G17+G25+G33 -> 0 | H37: =H9+H17+H25+H33 -> 0 | I37: =I9+I17+I25+I33 -> 0 | ... AF37: =AF9+AF17+AF25+AF33 -> 0 | AG37: =SUM(B37:AF37) -> 0
S39: Productive hours per project:
A40: Date and signature of staff member | F40: Date and signature of line manager/supervisor | S40: =A9 -> Title of the project (acronim) - Grant Agreement No: | AG40: =AG9 -> 0
S41: =A17 -> Title of the project (acronim) - Grant Agreement No: | AG41: =AG17 -> 0
S42: =A25 -> Title of the project (acronim) - Grant Agreement No: | AG42: =AG25 -> 0
S43: Other activities | AG43: =AG33 -> 0
S44: Total hours | AG44: =SUM(AG40:AG43) -> 0

Sheet Nov 2023
A1: Name of Beneficiary | B1: Università degli Studi di Roma "Tor Vergata"
A2: Name of staff member | B2: ='Jan 2023'!B2:AG2 -> Prof./Dott. ……..
A3: Type of personnel | B3: ='Jan 2023'!B3:AG3 -> (see Art. 6.2.A Grant Agreement)
A4: Calendar Year | B4: 2023
A5: Calendar Month | B5: November
A7: Date | B7: 1 | C7: 2 | D7: 3 | E7: 4 | F7: 5 | G7: 6 | H7: 7 | I7: 8 | J7: 9 | K7: 10 | L7: 11 | M7: 12 | N7: 13 | O7: 14 | P7: 15 | Q7: 16 | R7: 17 | S7: 18 | T7: 19 | U7: 20 | V7: 21 | W7: 22 | X7: 23 | Y7: 24 | Z7: 25 | AA7: 26 | AB7: 27 | AC7: 28 | AD7: 29 | AE7: 30 | AF7: Total
A8: Day | B8: Wed | C8: Thu | D8: Fri | E8: Sat | F8: Sun | G8: Mon | H8: Tue | I8: Wed | J8: Thu | K8: Fri | L8: Sat | M8: Sun | N8: Mon | O8: Tue | P8: Wed | Q8: Thu | R8: Fri | S8: Sat | T8: Sun | U8: Mon | V8: Tue | W8: Wed | X8: Thu | Y8: Fri | Z8: Sat | AA8: Sun | AB8: Mon | AC8: Tue | AD8: Wed | AE8: Thu
A9: Title of the project (acronim) - Grant Agreement No: | B9: =SUM(B10:B16) -> 0 | C9: =SUM(C10:C16) -> 0 | D9: =SUM(D10:D16) -> 0 | E9: =SUM(E10:E16) -> 0 | F9: =SUM(F10:F16) -> 0 | G9: =SUM(G10:G16) -> 0 | H9: =SUM(H10:H16) -> 0 | I9: =SUM(I10:I16) -> 0 | ... AE9: =SUM(AE10:AE16) -> 0 | AF9: =SUM(B9:AE9) -> 0
A10: WP1 | AF10: =SUM(B10:AE10) -> 0
A11: WP2 | AF11: =SUM(B11:AE11) -> 0
A12: WP3 | AF12: =SUM(B12:AE12) -> 0
A13: WP4 | AF13: =SUM(B13:AE13) -> 0
A14: WP5 | AF14: =SUM(B14:AE14) -> 0
A15: WP6 | AF15: =SUM(B15:AE15) -> 0
A16: WP7 | AF16: =SUM(B16:AE16) -> 0
A17: Title of the project (acronim) - Grant Agreement No: | B17: =SUM(B18:B24) -> 0 | C17: =SUM(C18:C24) -> 0 | D17: =SUM(D18:D24) -> 0 | E17: =SUM(E18:E24) -> 0 | F17: =SUM(F18:F24) -> 0 | G17: =SUM(G18:G24) -> 0 | H17: =SUM(H18:H24) -> 0 | I17: =SUM(I18:I24) -> 0 | ... AE17: =SUM(AE18:AE24) -> 0 | AF17: =SUM(B17:AE17) -> 0
A18: WP1 | AF18: =SUM(B18:AE18) -> 0
A19: WP2 | AF19: =SUM(B19:AE19) -> 0
A20: WP3 | AF20: =SUM(B20:AE20) -> 0
A21: WP4 | AF21: =SUM(B21:AE21) -> 0
A22: WP5 | AF22: =SUM(B22:AE22) -> 0
A23: WP6 | AF23: =SUM(B23:AE23) -> 0
A24: WP7 | AF24: =SUM(B24:AE24) -> 0
A25: Title of the project (acronim) - Grant Agreement No: | B25: =SUM(B26:B32) -> 0 | C25: =SUM(C26:C32) -> 0 | D25: =SUM(D26:D32) -> 0 | E25: =SUM(E26:E32) -> 0 | F25: =SUM(F26:F32) -> 0 | G25: =SUM(G26:G32) -> 0 | H25: =SUM(H26:H32) -> 0 | I25: =SUM(I26:I32) -> 0 | ... AE25: =SUM(AE26:AE32) -> 0 | AF25: =SUM(B25:AE25) -> 0
A26: WP1 | AF26: =SUM(B26:AE26) -> 0
A27: WP2 | AF27: =SUM(B27:AE27) -> 0
A28: WP3 | AF28: =SUM(B28:AE28) -> 0
A29: WP4 | AF29: =SUM(B29:AE29) -> 0
A30: WP5 | AF30: =SUM(B30:AE30) -> 0
A31: WP6 | AF31: =SUM(B31:AE31) -> 0
A32: WP7 | AF32: =SUM(B32:AE32) -> 0
A33: Other activities | B33: =SUM(B34:B36) -> 0 | C33: =SUM(C34:C36) -> 0 | D33: =SUM(D34:D36) -> 0 | E33: =SUM(E34:E36) -> 0 | F33: =SUM(F34:F36) -> 0 | G33: =SUM(G34:G36) -> 0 | H33: =SUM(H34:H36) -> 0 | I33: =SUM(I34:I36) -> 0 | ... AE33: =SUM(AE34:AE36) -> 0 | AF33: =SUM(B33:AE33) -> 0
AF34: =SUM(B34:AE34) -> 0
AF35: =SUM(B35:AE35) -> 0
AF36: =SUM(B36:AE36) -> 0
A37: Total hours | B37: =SUM(B9+B17+B25+B33) -> 0 | C37: =SUM(C9+C17+C25+C33) -> 0 | D37: =SUM(D9+D17+D25+D33) -> 0 | E37: =SUM(E9+E17+E25+E33) -> 0 | F37: =SUM(F9+F17+F25+F33) -> 0 | G37: =SUM(G9+G17+G25+G33) -> 0 | H37: =SUM(H9+H17+H25+H33) -> 0 | I37: =SUM(I9+I17+I25+I33) -> 0 | ... AE37: =SUM(AE9+AE17+AE25+AE33) -> 0 | AF37: =SUM(B37:AE37) -> 0
S39: Productive hours per project:
A40: Date and signature of staff member | F40: Date and signature of line manager/supervisor | S40: =A9 -> Title of the project (acronim) - Grant Agreement No: | AF40: =AF9 -> 0
S41: =A17 -> Title of the project (acronim) - Grant Agreement No: | AF41: =AF17 -> 0
S42: =A25 -> Title of the project (acronim) - Grant Agreement No: | AF42: =AF25 -> 0
S43: Other activities | AF43: =AF33 -> 0
S44: Total hours | AF44: =SUM(AF40:AF43) -> 0

Sheet Dic 2023
A1: Name of Beneficiary | B1: Università degli Studi di Roma "Tor Vergata"
A2: Name of staff member | B2: ='Jan 2023'!B2:AG2 -> Prof./Dott. ……..
A3: Type of personnel | B3: ='Jan 2023'!B3:AG3 -> (see Art. 6.2.A Grant Agreement)
A4: Calendar Year | B4: 2023
A5: Calendar Month | B5: December
A7: Date | B7: 1 | C7: 2 | D7: 3 | E7: 4 | F7: 5 | G7: 6 | H7: 7 | I7: 8 | J7: 9 | K7: 10 | L7: 11 | M7: 12 | N7: 13 | O7: 14 | P7: 15 | Q7: 16 | R7: 17 | S7: 18 | T7: 19 | U7: 20 | V7: 21 | W7: 22 | X7: 23 | Y7: 24 | Z7: 25 | AA7: 26 | AB7: 27 | AC7: 28 | AD7: 29 | AE7: 30 | AF7: 31 | AG7: Total
A8: Day | B8: Fri | C8: Sat | D8: Sun | E8: Mon | F8: Tue | G8: Wed | H8: Thu | I8: Fri | J8: Sat | K8: Sun | L8: Mon | M8: Tue | N8: Wed | O8: Thu | P8: Fri | Q8: Sat | R8: Sun | S8: Mon | T8: Tue | U8: Wed | V8: Thu | W8: Fri | X8: Sat | Y8: Sun | Z8: Mon | AA8: Tue | AB8: Wed | AC8: Thu | AD8: Fri | AE8: Sat | AF8: Sun
A9: Title of the project (acronim) - Grant Agreement No: | B9: =SUM(B10:B16) -> 0 | C9: =SUM(C10:C16) -> 0 | D9: =SUM(D10:D16) -> 0 | E9: =SUM(E10:E16) -> 0 | F9: =SUM(F10:F16) -> 0 | G9: =SUM(G10:G16) -> 0 | H9: =SUM(H10:H16) -> 0 | I9: =SUM(I10:I16) -> 0 | ... AF9: =SUM(AF10:AF16) -> 0 | AG9: =SUM(B9:AF9) -> 0
A10: WP1 | AG10: =SUM(B10:AF10) -> 0
A11: WP2 | AG11: =SUM(B11:AF11) -> 0
A12: WP3 | AG12: =SUM(B12:AF12) -> 0
A13: WP4 | AG13: =SUM(B13:AF13) -> 0
A14: WP5 | AG14: =SUM(B14:AF14) -> 0
A15: WP6 | AG15: =SUM(B15:AF15) -> 0
A16: WP7 | AG16: =SUM(B16:AF16) -> 0
A17: Title of the project (acronim) - Grant Agreement No: | B17: =SUM(B18:B24) -> 0 | C17: =SUM(C18:C24) -> 0 | D17: =SUM(D18:D24) -> 0 | E17: =SUM(E18:E24) -> 0 | F17: =SUM(F18:F24) -> 0 | G17: =SUM(G18:G24) -> 0 | H17: =SUM(H18:H24) -> 0 | I17: =SUM(I18:I24) -> 0 | ... AF17: =SUM(AF18:AF24) -> 0 | AG17: =SUM(B17:AF17) -> 0
A18: WP1 | AG18: =SUM(B18:AF18) -> 0
A19: WP2 | AG19: =SUM(B19:AF19) -> 0
A20: WP3 | AG20: =SUM(B20:AF20) -> 0
A21: WP4 | AG21: =SUM(B21:AF21) -> 0
A22: WP5 | AG22: =SUM(B22:AF22) -> 0
A23: WP6 | AG23: =SUM(B23:AF23) -> 0
A24: WP7 | AG24: =SUM(B24:AF24) -> 0
A25: Title of the project (acronim) - Grant Agreement No: | B25: =SUM(B26:B32) -> 0 | C25: =SUM(C26:C32) -> 0 | D25: =SUM(D26:D32) -> 0 | E25: =SUM(E26:E32) -> 0 | F25: =SUM(F26:F32) -> 0 | G25: =SUM(G26:G32) -> 0 | H25: =SUM(H26:H32) -> 0 | I25: =SUM(I26:I32) -> 0 | ... AF25: =SUM(AF26:AF32) -> 0 | AG25: =SUM(B25:AF25) -> 0
A26: WP1 | AG26: =SUM(B26:AF26) -> 0
A27: WP2 | AG27: =SUM(B27:AF27) -> 0
A28: WP3 | AG28: =SUM(B28:AF28) -> 0
A29: WP4 | AG29: =SUM(B29:AF29) -> 0
A30: WP5 | AG30: =SUM(B30:AF30) -> 0
A31: WP6 | AG31: =SUM(B31:AF31) -> 0
A32: WP7 | AG32: =SUM(B32:AF32) -> 0
A33: Other activities | B33: =SUM(B34:B36) -> 0 | C33: =SUM(C34:C36) -> 0 | D33: =SUM(D34:D36) -> 0 | E33: =SUM(E34:E36) -> 0 | F33: =SUM(F34:F36) -> 0 | G33: =SUM(G34:G36) -> 0 | H33: =SUM(H34:H36) -> 0 | I33: =SUM(I34:I36) -> 0 | ... AF33: =SUM(AF34:AF36) -> 0 | AG33: =SUM(B33:AF33) -> 0
AG34: =SUM(B34:AF34) -> 0
AG35: =SUM(B35:AF35) -> 0
AG36: =SUM(B36:AF36) -> 0
A37: Total hours | B37: =B9+B17+B25+B33 -> 0 | C37: =C9+C17+C25+C33 -> 0 | D37: =D9+D17+D25+D33 -> 0 | E37: =E9+E17+E25+E33 -> 0 | F37: =F9+F17+F25+F33 -> 0 | G37: =G9+G17+G25+G33 -> 0 | H37: =H9+H17+H25+H33 -> 0 | I37: =I9+I17+I25+I33 -> 0 | ... AF37: =AF9+AF17+AF25+AF33 -> 0 | AG37: =SUM(B37:AF37) -> 0
S39: Productive hours per project:
A40: Date and signature of staff member | F40: Date and signature of line manager/supervisor | S40: =A9 -> Title of the project (acronim) - Grant Agreement No: | AG40: =AG9 -> 0
S41: =A17 -> Title of the project (acronim) - Grant Agreement No: | AG41: =AG17 -> 0
S42: =A25 -> Title of the project (acronim) - Grant Agreement No: | AG42: =AG25 -> 0
S43: Other activities | AG43: =AG33 -> 0
S44: Total hours | AG44: =SUM(AG40:AG43) -> 0

Sheet 2023Total Hours-PM
A1: Name of Beneficiary | B1: Università degli Studi di Roma "Tor Vergata" | G1: 2022
A2: Name of staff member | B2: ='Jan 2023'!B2:AG2 -> Prof./Dott. …….. | O2: Productive hours | P2: Productive days
A3: Type of personnel | B3: ='Jan 2023'!B3:AG3 -> (see Art. 6.2.A Grant Agreement) | G3: Title of the project (acronim) - Grant Agreement No: | O3: ='Jan 2023'!AG40+'Feb 2023'!AD40+'Mar 2023'!AG40+'Apr 2023'!AF40+'May 2023'!AG40+'Jun 2023'!AF40+'Jul 2023'!AG40+'Aug 2023'!AG40+'Sep 2023'!AF40+'Oct 2023'!AG40+'Nov 2023'!AF40+'Dic 2023'!AG40 -> 0 | P3: =O3/8 -> 0
A4: Calendar Year | B4: 2023 | G4: Title of the project (acronim) - Grant Agreement No: | O4: ='Jan 2023'!AG41+'Feb 2023'!AD41+'Mar 2023'!AG41+'Apr 2023'!AF41+'May 2023'!AG41+'Jun 2023'!AF41+'Jul 2023'!AG41+'Aug 2023'!AG41+'Sep 2023'!AF41+'Oct 2023'!AG41+'Nov 2023'!AF41+'Dic 2023'!AG41 -> 0 | P4: =O4/8 -> 0
A5: Calendar Month | G5: Title of the project (acronim) - Grant Agreement No: | O5: ='Jan 2023'!AG42+'Feb 2023'!AD42+'Mar 2023'!AG42+'Apr 2023'!AF42+'May 2023'!AG42+'Jun 2023'!AF42+'Jul 2023'!AG42+'Aug 2023'!AG42+'Sep 2023'!AF42+'Oct 2023'!AG42+'Nov 2023'!AF42+'Dic 2023'!AG42 -> 0 | P5: =O5/8 -> 0
G6: Hours worked on projects | O6: =O3+O4+O5 -> 0 | P6: =P3+P4+P5 -> 0
B7: TOTAL HOURS | C7: TOTAL DAYS | D7: PM | G7: Other activities* | O7: ='Jan 2023'!AG43+'Feb 2023'!AD43+'Mar 2023'!AG43+'Apr 2023'!AF43+'May 2023'!AG43+'Jun 2023'!AF43+'Jul 2023'!AG43+'Aug 2023'!AG43+'Sep 2023'!AF43+'Oct 2023'!AG43+'Nov 2023'!AF43+'Dic 2023'!AG43 -> 0 | P7: =O7/8 -> 0
A8: Title of the project (acronim) - Grant Agreement No: | B8: =SUM(B9:B15) -> 0 | C8: =SUM(C9:C15) -> 0 | D8: =SUM(D9:D15) -> 0 | G8: Total hours | O8: ='Jan 2023'!AG44+'Feb 2023'!AD44+'Mar 2023'!AG44+'Apr 2023'!AF44+'May 2023'!AG44+'Jun 2023'!AF44+'Jul 2023'!AG44+'Aug 2023'!AG44+'Sep 2023'!AF44+'Oct 2023'!AG44+'Nov 2023'!AF44+'Dic 2023'!AG44 -> 0 | P8: =P6+P7 -> 0
A9: WP1 | B9: ='Jan 2023'!AG10+'Feb 2023'!AD10+'Mar 2023'!AG10+'Apr 2023'!AF10+'May 2023'!AG10+'Jun 2023'!AF10+'Jul 2023'!AG10+'Aug 2023'!AG10+'Sep 2023'!AF10+'Oct 2023'!AG10+'Nov 2023'!AF10+'Dic 2023'!AG10 -> 0 | C9: =B9/8 -> 0 | D9: =B9/143 -> 0 | O9: =IF(O8>1720,"WARNING!","OK") -> OK | P9: =IF(P8>215,"WARNING!","OK") -> OK
A10: WP2 | B10: ='Jan 2023'!AG11+'Feb 2023'!AD11+'Mar 2023'!AG11+'Apr 2023'!AF11+'May 2023'!AG11+'Jun 2023'!AF11+'Jul 2023'!AG11+'Aug 2023'!AG11+'Sep 2023'!AF11+'Oct 2023'!AG11+'Nov 2023'!AF11+'Dic 2023'!AG11 -> 0 | C10: =B10/8 -> 0 | D10: =B10/143 -> 0
A11: WP3 | B11: ='Jan 2023'!AG12+'Feb 2023'!AD12+'Mar 2023'!AG12+'Apr 2023'!AF12+'May 2023'!AG12+'Jun 2023'!AF12+'Jul 2023'!AG12+'Aug 2023'!AG12+'Sep 2023'!AF12+'Oct 2023'!AG12+'Nov 2023'!AF12+'Dic 2023'!AG12 -> 0 | C11: =B11/8 -> 0 | D11: =B11/143 -> 0
A12: WP4 | B12: ='Jan 2023'!AG13+'Feb 2023'!AD13+'Mar 2023'!AG13+'Apr 2023'!AF13+'May 2023'!AG13+'Jun 2023'!AF13+'Jul 2023'!AG13+'Aug 2023'!AG13+'Sep 2023'!AF13+'Oct 2023'!AG13+'Nov 2023'!AF13+'Dic 2023'!AG13 -> 0 | C12: =B12/8 -> 0 | D12: =B12/143 -> 0
A13: WP5 | B13: ='Jan 2023'!AG14+'Feb 2023'!AD14+'Mar 2023'!AG14+'Apr 2023'!AF14+'May 2023'!AG14+'Jun 2023'!AF14+'Jul 2023'!AG14+'Aug 2023'!AG14+'Sep 2023'!AF14+'Oct 2023'!AG14+'Nov 2023'!AF14+'Dic 2023'!AG14 -> 0 | C13: =B13/8 -> 0 | D13: =B13/143 -> 0
A14: WP6 | B14: ='Jan 2023'!AG15+'Feb 2023'!AD15+'Mar 2023'!AG15+'Apr 2023'!AF15+'May 2023'!AG15+'Jun 2023'!AF15+'Jul 2023'!AG15+'Aug 2023'!AG15+'Sep 2023'!AF15+'Oct 2023'!AG15+'Nov 2023'!AF15+'Dic 2023'!AG15 -> 0 | C14: =B14/8 -> 0 | D14: =B14/143 -> 0 | G14: Annual cost** | H14: Daily rate | I14: Reported days | J14: Reported amount
A15: WP7 | B15: ='Jan 2023'!AG16+'Feb 2023'!AD16+'Mar 2023'!AG16+'Apr 2023'!AF16+'May 2023'!AG16+'Jun 2023'!AF16+'Jul 2023'!AG16+'Aug 2023'!AG16+'Sep 2023'!AF16+'Oct 2023'!AG16+'Nov 2023'!AF16+'Dic 2023'!AG16 -> 0 | C15: =B15/8 -> 0 | D15: =B15/143 -> 0 | H15: =G15/215 -> 0 | I15: =P6 -> 0 | J15: =H15*I15 -> 0 | K15: =IF(J15>G15,"WARNING!","OK") -> OK
A16: Title of the project (acronim) - Grant Agreement No: | B16: =SUM(B17:B23) -> 0 | C16: =SUM(C17:C23) -> 0 | D16: =SUM(D17:D23) -> 0
A17: WP1 | B17: ='Jan 2023'!AG18+'Feb 2023'!AD18+'Mar 2023'!AG18+'Apr 2023'!AF18+'May 2023'!AG18+'Jun 2023'!AF18+'Jul 2023'!AG18+'Aug 2023'!AG18+'Sep 2023'!AF18+'Oct 2023'!AG18+'Nov 2023'!AF18+'Dic 2023'!AG18 -> 0 | C17: =B17/8 -> 0 | D17: =B17/143 -> 0 | G17: * L. 240/2010 art. 6 co. 2,3
A18: WP2 | B18: ='Jan 2023'!AG19+'Feb 2023'!AD19+'Mar 2023'!AG19+'Apr 2023'!AF19+'May 2023'!AG19+'Jun 2023'!AF19+'Jul 2023'!AG19+'Aug 2023'!AG19+'Sep 2023'!AF19+'Oct 2023'!AG19+'Nov 2023'!AF19+'Dic 2023'!AG19 -> 0 | C18: =B18/8 -> 0 | D18: =B18/143 -> 0 | G18: 2. I professori svolgono attività di ricerca e di aggiornamento scientifico e, sulla base di criteri e modalità stabiliti con regolamento di ateneo, sono tenuti a riservare annualmente a compiti didattici e di servizio agli studenti, inclusi l'orientamento e il tutorato, nonché ad attività di verifica dell'apprendimento, non meno di 350 ore in regime di tempo pieno e non meno di 250 ore in regime di tempo definito.3. I ricercatori di ruolo svolgono attività di ricerca e di aggiornamento scientifico e, sulla base di criteri e modalità stabiliti con regolamento di ateneo, sono tenuti a riservare annualmente a compiti di didattica integrativa e di servizio agli studenti, inclusi l'orientamento e il tutorato, nonchè ad attività di verifica dell'apprendimento, fino ad un massimo di 350 ore in regime di tempo pieno e fino ad un massimo di 200 ore in regime di tempo definito.
A19: WP3 | B19: ='Jan 2023'!AG20+'Feb 2023'!AD20+'Mar 2023'!AG20+'Apr 2023'!AF20+'May 2023'!AG20+'Jun 2023'!AF20+'Jul 2023'!AG20+'Aug 2023'!AG20+'Sep 2023'!AF20+'Oct 2023'!AG20+'Nov 2023'!AF20+'Dic 2023'!AG20 -> 0 | C19: =B19/8 -> 0 | D19: =B19/143 -> 0
A20: WP4 | B20: ='Jan 2023'!AG21+'Feb 2023'!AD21+'Mar 2023'!AG21+'Apr 2023'!AF21+'May 2023'!AG21+'Jun 2023'!AF21+'Jul 2023'!AG21+'Aug 2023'!AG21+'Sep 2023'!AF21+'Oct 2023'!AG21+'Nov 2023'!AF21+'Dic 2023'!AG21 -> 0 | C20: =B20/8 -> 0 | D20: =B20/143 -> 0
A21: WP5 | B21: ='Jan 2023'!AG22+'Feb 2023'!AD22+'Mar 2023'!AG22+'Apr 2023'!AF22+'May 2023'!AG22+'Jun 2023'!AF22+'Jul 2023'!AG22+'Aug 2023'!AG22+'Sep 2023'!AF22+'Oct 2023'!AG22+'Nov 2023'!AF22+'Dic 2023'!AG22 -> 0 | C21: =B21/8 -> 0 | D21: =B21/143 -> 0
A22: WP6 | B22: ='Jan 2023'!AG23+'Feb 2023'!AD23+'Mar 2023'!AG23+'Apr 2023'!AF23+'May 2023'!AG23+'Jun 2023'!AF23+'Jul 2023'!AG23+'Aug 2023'!AG23+'Sep 2023'!AF23+'Oct 2023'!AG23+'Nov 2023'!AF23+'Dic 2023'!AG23 -> 0 | C22: =B22/8 -> 0 | D22: =B22/143 -> 0
A23: WP7 | B23: ='Jan 2023'!AG24+'Feb 2023'!AD24+'Mar 2023'!AG24+'Apr 2023'!AF24+'May 2023'!AG24+'Jun 2023'!AF24+'Jul 2023'!AG24+'Aug 2023'!AG24+'Sep 2023'!AF24+'Oct 2023'!AG24+'Nov 2023'!AF24+'Dic 2023'!AG24 -> 0 | C23: =B23/8 -> 0 | D23: =B23/143 -> 0
A24: Title of the project (acronim) - Grant Agreement No: | B24: =SUM(B25:B31) -> 0 | C24: =SUM(C25:C31) -> 0 | D24: =SUM(D25:D31) -> 0 | G24: art. 24 (RTD a-b) 4. I contratti di cui al comma 3, lettera a), possono prevedere il regime di tempo pieno o di tempo definito. I contratti di cui al comma 3, lettera b), sono stipulati esclusivamente con regime di tempo pieno. L'impegno annuo complessivo per lo svolgimento delle attività di didattica, di didattica integrativa e di servizio agli studenti e' pari a 350 ore per il regime di tempo pieno e a 200 ore per il regime di tempo definito.
A25: WP1 | B25: ='Jan 2023'!AG26+'Feb 2023'!AD26+'Mar 2023'!AG26+'Apr 2023'!AF26+'May 2023'!AG26+'Jun 2023'!AF26+'Jul 2023'!AG26+'Aug 2023'!AG26+'Sep 2023'!AF26+'Oct 2023'!AG26+'Nov 2023'!AF26+'Dic 2023'!AG26 -> 0 | C25: =B25/8 -> 0 | D25: =B25/143 -> 0
A26: WP2 | B26: ='Jan 2023'!AG27+'Feb 2023'!AD27+'Mar 2023'!AG27+'Apr 2023'!AF27+'May 2023'!AG27+'Jun 2023'!AF27+'Jul 2023'!AG27+'Aug 2023'!AG27+'Sep 2023'!AF27+'Oct 2023'!AG27+'Nov 2023'!AF27+'Dic 2023'!AG27 -> 0 | C26: =B26/8 -> 0 | D26: =B26/143 -> 0
A27: WP3 | B27: ='Jan 2023'!AG28+'Feb 2023'!AD28+'Mar 2023'!AG28+'Apr 2023'!AF28+'May 2023'!AG28+'Jun 2023'!AF28+'Jul 2023'!AG28+'Aug 2023'!AG28+'Sep 2023'!AF28+'Oct 2023'!AG28+'Nov 2023'!AF28+'Dic 2023'!AG28 -> 0 | C27: =B27/8 -> 0 | D27: =B27/143 -> 0
A28: WP4 | B28: ='Jan 2023'!AG29+'Feb 2023'!AD29+'Mar 2023'!AG29+'Apr 2023'!AF29+'May 2023'!AG29+'Jun 2023'!AF29+'Jul 2023'!AG29+'Aug 2023'!AG29+'Sep 2023'!AF29+'Oct 2023'!AG29+'Nov 2023'!AF29+'Dic 2023'!AG29 -> 0 | C28: =B28/8 -> 0 | D28: =B28/143 -> 0
A29: WP5 | B29: ='Jan 2023'!AG30+'Feb 2023'!AD30+'Mar 2023'!AG30+'Apr 2023'!AF30+'May 2023'!AG30+'Jun 2023'!AF30+'Jul 2023'!AG30+'Aug 2023'!AG30+'Sep 2023'!AF30+'Oct 2023'!AG30+'Nov 2023'!AF30+'Dic 2023'!AG30 -> 0 | C29: =B29/8 -> 0 | D29: =B29/143 -> 0
A30: WP6 | B30: ='Jan 2023'!AG31+'Feb 2023'!AD31+'Mar 2023'!AG31+'Apr 2023'!AF31+'May 2023'!AG31+'Jun 2023'!AF31+'Jul 2023'!AG31+'Aug 2023'!AG31+'Sep 2023'!AF31+'Oct 2023'!AG31+'Nov 2023'!AF31+'Dic 2023'!AG31 -> 0 | C30: =B30/8 -> 0 | D30: =B30/143 -> 0 | G30: **The amount taken from Certification of costs of personnel involved, including groos salary and social charges, and excludind IRAP, bonuses and overtime.
A31: WP7 | B31: ='Jan 2023'!AG32+'Feb 2023'!AD32+'Mar 2023'!AG32+'Apr 2023'!AF32+'May 2023'!AG32+'Jun 2023'!AF32+'Jul 2023'!AG32+'Aug 2023'!AG32+'Sep 2023'!AF32+'Oct 2023'!AG32+'Nov 2023'!AF32+'Dic 2023'!AG32 -> 0 | C31: =B31/8 -> 0 | D31: =B31/143 -> 0
A32: Other activities | B32: =SUM(B33:B35) -> 0 | D32: =SUM(D33:D35) -> 0
B36: =B8+B16+B24+B32 -> 0 | D36: =D8+D16+D24+D32 -> 0
